Workbook

Sheet 每季
B1: 基隆關113年度各項主要業務資料統計
B2: 一、一般貨物進出口報單份數（單位：份）
C3: 第1季 | D3: 第2季 | E3: 第3季 | F3: 第4季 | G3: 合計
B4: 進口報單 | C4: =SUM(每月!C6:E6) -> 173096 | D4: =SUM(每月!F6:H6) -> 195955 | E4: =SUM(每月!I6:K6) -> 200061 | F4: =SUM(每月!L6:N6) -> 204947 | G4: =SUM(C4:F4) -> 774059
B5: 出口報單 | C5: =SUM(每月!C29:E29) -> 176535 | D5: =SUM(每月!F29:H29) -> 189690 | E5: =SUM(每月!I29:K29) -> 189808 | F5: =SUM(每月!L29:N29) -> 186470 | G5: =SUM(C5:F5) -> 742503
B6: 轉運申請書 | C6: =SUM(每月!C51:E51) -> 3729 | D6: =SUM(每月!F51:H51) -> 4970 | E6: =SUM(每月!I51:K51) -> 5982 | F6: =SUM(每月!L51:N51) -> 6290 | G6: =SUM(C6:F6) -> 20971
B7: 合 計 | C7: =SUM(C4:C6) -> 353360 | D7: =SUM(D4:D6) -> 390615 | E7: =SUM(E4:E6) -> 395851 | F7: =SUM(F4:F6) -> 397707 | G7: =SUM(C7:F7) -> 1537533
B8: *進、出口報單份數包含小三通部分
B9: 二、快遞貨物進出口報單份數（單位：份）
C10: 第1季 | D10: 第2季 | E10: 第3季 | F10: 第4季 | G10: 合計
B11: 進口報單 | C11: =SUM(每月!C12:E12)+SUM(每月!C15:E15) -> 2168684 | D11: =SUM(每月!F12:H12)+SUM(每月!F15:H15) -> 2487213 | E11: =SUM(每月!I12:K12)+SUM(每月!I15:K15) -> 2434004 | F11: =SUM(每月!L12:N12)+SUM(每月!L15:N15) -> 2597294 | G11: =SUM(C11:F11) -> 9687195
B12: 出口報單 | C12: =SUM(每月!C35:E35)+SUM(每月!C38:E38) -> 87 | D12: =SUM(每月!F35:H35)+SUM(每月!F38:H38) -> 90 | E12: =SUM(每月!I35:K35)+SUM(每月!I38:K38) -> 49 | F12: =SUM(每月!L35:N35)+SUM(每月!L38:N38) -> 23 | G12: =SUM(C12:F12) -> 249
B13: 合 計 | C13: =SUM(C11:C12) -> 2168771 | D13: =SUM(D11:D12) -> 2487303 | E13: =SUM(E11:E12) -> 2434053 | F13: =SUM(F11:F12) -> 2597317 | G13: =SUM(G11:G12) -> 9687444
B15: 三、入出境旅客人數（單位：人）
C16: 第1季 | D16: 第2季 | E16: 第3季 | F16: 第4季 | G16: 合計
B17: 入境旅客 | C17: =SUM(每月!C114:E114) -> 89718 | D17: =SUM(每月!F114:H114) -> 93958 | E17: =SUM(每月!I114:K114) -> 151796 | F17: =SUM(每月!L114:N114) -> 70401 | G17: =SUM(C17:F17) -> 405873
B18: 出境旅客 | C18: =SUM(每月!C117:E117) -> 88606 | D18: =SUM(每月!F117:H117) -> 88728 | E18: =SUM(每月!I117:K117) -> 153085 | F18: =SUM(每月!L117:N117) -> 71396 | G18: =SUM(C18:F18) -> 401815
B19: 合 計 | C19: =SUM(C17:C18) -> 178324 | D19: =SUM(D17:D18) -> 182686 | E19: =SUM(E17:E18) -> 304881 | F19: =SUM(F17:F18) -> 141797 | G19: =SUM(C19:F19) -> 807688
B20: *入出境旅客人數未包含小三通部分
B21: 四、商船艘數（單位：艘）
C22: 第1季 | D22: 第2季 | E22: 第3季 | F22: 第4季 | G22: 合計
B23: 進口商船 | C23: =SUM(每月!C104:E104) -> 1290 | D23: =SUM(每月!F104:H104) -> 1407 | E23: =SUM(每月!I104:K104) -> 1314 | F23: =SUM(每月!L104:N104) -> 1359 | G23: =SUM(C23:F23) -> 5370
B24: 出口商船 | C24: =SUM(每月!C106:E106) -> 951 | D24: =SUM(每月!F106:H106) -> 1007 | E24: =SUM(每月!I106:K106) -> 1009 | F24: =SUM(每月!L106:N106) -> 984 | G24: =SUM(C24:F24) -> 3951
B25: 合 計 | C25: =SUM(C23:C24) -> 2241 | D25: =SUM(D23:D24) -> 2414 | E25: =SUM(E23:E24) -> 2323 | F25: =SUM(F23:F24) -> 2343 | G25: =SUM(C25:F25) -> 9321
B27: 五、商船載貨噸數（單位：千噸）
C28: 第1季 | D28: 第2季 | E28: 第3季 | F28: 第4季 | G28: 合計
B29: 進口商船 | C29: =(SUM(每月!C105:E105))/1000 -> 12006.698 | D29: =(SUM(每月!F105:H105))/1000 -> 13266.907 | E29: =(SUM(每月!I105:K105))/1000 -> 13456.788 | F29: =(SUM(每月!L105:N105))/1000 -> 12956.157 | G29: =SUM(C29:F29) -> 51686.55
B30: 出口商船 | C30: =(SUM(每月!C107:E107))/1000 -> 1727.8879 | D30: =(SUM(每月!F107:H107))/1000 -> 1884.3476 | E30: =(SUM(每月!I107:K107))/1000 -> 1793.0061 | F30: =(SUM(每月!L107:N107))/1000 -> 1836.9587 | G30: =SUM(C30:F30) -> 7242.2003
B31: 合 計 | C31: =SUM(C29:C30) -> 13734.586 | D31: =SUM(D29:D30) -> 15151.255 | E31: =SUM(E29:E30) -> 15249.794 | F31: =SUM(F29:F30) -> 14793.115 | G31: =SUM(C31:F31) -> 58928.751
B33: 六、郵包件數（單位：件）
C34: 第1季 | D34: 第2季 | E34: 第3季 | F34: 第4季 | G34: 合計
B35: 進口郵包 | C35: =SUM(每月!C121:E121) -> 12592 | D35: =SUM(每月!F121:H121) -> 12357 | E35: =SUM(每月!I121:K121) -> 12041 | F35: =SUM(每月!L121:N121) -> 12561 | G35: =SUM(C35:F35) -> 49551
B36: 出口郵包 | C36: =SUM(每月!C123:E123) -> 20962 | D36: =SUM(每月!F123:H123) -> 18740 | E36: =SUM(每月!I123:K123) -> 18410 | F36: =SUM(每月!L123:N123) -> 17390 | G36: =SUM(C36:F36) -> 75502
B37: 合 計 | C37: =SUM(C35:C36) -> 33554 | D37: =SUM(D35:D36) -> 31097 | E37: =SUM(E35:E36) -> 30451 | F37: =SUM(F35:F36) -> 29951 | G37: =SUM(C37:F37) -> 125053
B39: 七、貨櫃實櫃數量（單位：個）
C40: 第1季 | D40: 第2季 | E40: 第3季 | F40: 第4季 | G40: 合計
B41: 進口實櫃 | C41: =SUM(每月!C68:E68) -> 149317 | D41: =SUM(每月!F68:H68) -> 168829 | E41: =SUM(每月!I68:K68) -> 167340 | F41: =SUM(每月!L68:N68) -> 173414 | G41: =SUM(C41:F41) -> 658900
B42: 出口實櫃 | C42: =SUM(每月!C91:E91) -> 98407 | D42: =SUM(每月!F91:H91) -> 102661 | E42: =SUM(每月!I91:K91) -> 97511 | F42: =SUM(每月!L91:N91) -> 101449 | G42: =SUM(C42:F42) -> 400028
B43: 轉口實櫃 | C43: =SUM(每月!C73:E73)+SUM(每月!C92:E92) -> 59528 | D43: =SUM(每月!F73:H73)+SUM(每月!F92:H92) -> 59701 | E43: =SUM(每月!I73:K73)+SUM(每月!I92:K92) -> 68020 | F43: =SUM(每月!L73:N73)+SUM(每月!L92:N92) -> 55401 | G43: =SUM(C43:F43) -> 242650
B44: 合 計 | C44: =SUM(C41:C43) -> 307252 | D44: =SUM(D41:D43) -> 331191 | E44: =SUM(E41:E43) -> 332871 | F44: =SUM(F41:F43) -> 330264 | G44: =SUM(C44:F44) -> 1301578
B46: 八、緝私案件數及私貨價值（單位：件/新臺幣千元）
C47: 第1季 | D47: 第2季 | E47: 第3季 | F47: 第4季 | G47: 合計
B48: 私貨件數 | C48: =SUM(每月!C142:E142) -> 391 | D48: =SUM(每月!F142:H142) -> 695 | E48: =SUM(每月!I142:K142) -> 745 | F48: =SUM(每月!L142:N142) -> 345 | G48: =SUM(C48:F48) -> 2176
B49: 私貨價值 | C49: =SUM(每月!C143:E143) -> 4679.488 | D49: =SUM(每月!F143:H143) -> 269738.45 | E49: =SUM(每月!I143:K143) -> 13906.752 | F49: =SUM(每月!L143:N143) -> 3498.326 | G49: =SUM(C49:F49) -> 291823.02
B51: 九、本關監管業務統計（以每季第三月資料為準）（單位：家）
C52: 第1季 | D52: 第2季 | E52: 第3季 | F52: 第4季 | G52: 備註
B53: 貨櫃集散站 | C53: =每月!E130 -> 19 | D53: =每月!H130 -> 19 | E53: =每月!K130 -> 19 | F53: =每月!N130 -> 19
B54: 進出口貨棧 | C54: =每月!E133 -> 16 | D54: =每月!H133 -> 16 | E54: =每月!K133 -> 16 | F54: =每月!N133 -> 15
B55: 報 關 業 | C55: =每月!E136 -> 537 | D55: =每月!H136 -> 541 | E55: =每月!K136 -> 544 | F55: =每月!N136 -> 545
B56: 保 稅 倉 庫 | C56: =每月!E168 -> 26 | D56: =每月!H168 -> 26 | E56: =每月!K168 -> 26 | F56: =每月!N168 -> 26
B57: 自用保稅倉庫 | C57: =每月!E174 -> 2 | D57: =每月!H174 -> 2 | E57: =每月!K174 -> 2 | F57: =每月!N174 -> 2
B58: 免稅商店 | C58: =每月!E198 -> 4 | D58: =每月!H198 -> 4 | E58: =每月!K198 -> 4 | F58: =每月!N198 -> 4
B59: 離島免稅購物商店 | C59: =每月!E199 -> 2 | D59: =每月!H199 -> 2 | E59: =每月!K199 -> 2 | F59: =每月!N199 -> 2
B60: 自由港區事業 | C60: =每月!E192 -> 17 | D60: =每月!H192 -> 17 | E60: =每月!K192 -> 17 | F60: =每月!N192 -> 17
B61: 物流中心 | C61: =每月!E180 -> 3 | D61: =每月!H180 -> 3 | E61: =每月!K180 -> 3 | F61: =每月!N180 -> 3

Sheet 每月
A1: 基隆關業務工作量統計表
A2: 113 年 1 月 至 113 年 12 月
A3: 項 目 | B3: 合 計 | C3: 1月 | D3: 2月 | E3: 3月 | F3: 4月 | G3: 5月 | H3: 6月 | I3: 7月 | J3: 8月 | K3: 9月 | L3: 10月 | M3: 11月 | N3: 12月
A4: 徵課類
A5: (一) 進口報單報關份數合計 | B5: =SUM(C5:N5) -> 10461254 | C5: 1019139 | D5: 382385 | E5: 940256 | F5: 891843 | G5: 913768 | H5: 877557 | I5: 892281 | J5: 881452 | K5: 860332 | L5: 807549 | M5: 1006293 | N5: 988399
A6: 1-1 進口報單報關份數(包含小三通) | B6: =SUM(C6:N6) -> 774059 | C6: 69727 | D6: 41156 | E6: 62213 | F6: 67827 | G6: 66509 | H6: 61619 | I6: 68813 | J6: 68171 | K6: 63077 | L6: 63065 | M6: 66731 | N6: 75151
A7: 進口報單報關份數(電腦連線) | B7: =SUM(C7:N7) -> 774016 | C7: 69725 | D7: 41155 | E7: 62211 | F7: 67824 | G7: 66505 | H7: 61614 | I7: 68811 | J7: 68168 | K7: 63071 | L7: 63060 | M7: 66722 | N7: 75150
A8: 進口報單報關份數(人工建檔) | B8: =SUM(C8:N8) -> 43 | C8: 2 | D8: 1 | E8: 2 | F8: 3 | G8: 4 | H8: 5 | I8: 2 | J8: 3 | K8: 6 | L8: 5 | M8: 9 | N8: 1
A9: 註:小三通進口報單報關份數 | B9: =SUM(C9:N9) -> 118 | C9: 7 | D9: 1 | E9: 8 | F9: 7 | G9: 11 | H9: 11 | I9: 2 | J9: 12 | K9: 14 | L9: 12 | M9: 16 | N9: 17
A10: 小三通進口報單報關份數(電腦連線) | B10: =SUM(C10:N10) -> 118 | C10: 7 | D10: 1 | E10: 8 | F10: 7 | G10: 11 | H10: 11 | I10: 2 | J10: 12 | K10: 14 | L10: 12 | M10: 16 | N10: 17
A11: 小三通進口報單報關份數(人工建檔) | B11: =SUM(C11:N11) -> 0 | C11: 0 | D11: 0 | E11: 0 | F11: 0 | G11: 0 | H11: 0 | I11: 0 | J11: 0 | K11: 0 | L11: 0 | M11: 0 | N11: 0
A12: 1-2 進口快遞貨物報單報關份數 | B12: =SUM(C12:N12) -> 47994 | C12: 4831 | D12: 1291 | E12: 4126 | F12: 4292 | G12: 4232 | H12: 3866 | I12: 4220 | J12: 4212 | K12: 4060 | L12: 3782 | M12: 4539 | N12: 4543
A13: 進口快遞貨物報單報關份數(電腦連線) | B13: =SUM(C13:N13) -> 47992 | C13: 4829 | D13: 1291 | E13: 4126 | F13: 4292 | G13: 4232 | H13: 3866 | I13: 4220 | J13: 4212 | K13: 4060 | L13: 3782 | M13: 4539 | N13: 4543
A14: 進口快遞貨物報單報關份數(人工建檔) | B14: =SUM(C14:N14) -> 2 | C14: 2 | D14: 0 | E14: 0 | F14: 0 | G14: 0 | H14: 0 | I14: 0 | J14: 0 | K14: 0 | L14: 0 | M14: 0 | N14: 0
A15: 1-3 進口快遞貨物簡易報單報關份數 | B15: =SUM(C15:N15) -> 9639201 | C15: 944581 | D15: 339938 | E15: 873917 | F15: 819724 | G15: 843027 | H15: 812072 | I15: 819248 | J15: 809069 | K15: 793195 | L15: 740702 | M15: 935023 | N15: 908705
A16: 進口快遞貨物簡易報單報關份數(電腦連線) | B16: =SUM(C16:N16) -> 9639201 | C16: 944581 | D16: 339938 | E16: 873917 | F16: 819724 | G16: 843027 | H16: 812072 | I16: 819248 | J16: 809069 | K16: 793195 | L16: 740702 | M16: 935023 | N16: 908705
... A33: 小三通出口報單報關份數(電腦連線) | B33: =SUM(C33:N33) -> 1178 | C33: 67 | D33: 28 | E33: 127 | F33: 123 | G33: 160 | H33: 144 | I33: 50 | J33: 44 | K33: 95 | L33: 100 | M33: 125 | N33: 115
A34: 小三通出口報單報關份數(人工建檔)
A35: 4-2 出口快遞貨物報單報關份數 | B35: =SUM(C35:N35) -> 249 | C35: 12 | D35: 1 | E35: 74 | F35: 15 | G35: 56 | H35: 19 | I35: 16 | J35: 33 | K35: 0 | L35: 0 | M35: 10 | N35: 13
A36: 出口快遞貨物報單報關份數(電腦連線) | B36: =SUM(C36:N36) -> 249 | C36: 12 | D36: 1 | E36: 74 | F36: 15 | G36: 56 | H36: 19 | I36: 16 | J36: 33 | K36: 0 | L36: 0 | M36: 10 | N36: 13
A37: 出口快遞貨物報單報關份數(人工建檔) | G37: 0
A38: 4-3 出口快遞貨物簡易報單報關份數 | B38: =SUM(C38:N38) -> 0 | C38: 0 | D38: 0 | E38: 0 | F38: 0 | G38: 0 | H38: 0 | I38: 0 | J38: 0 | K38: 0 | L38: 0 | M38: 0 | N38: 0
A39: 出口快遞貨物簡易報單報關份數(電腦連線) | B39: =SUM(C39:N39) -> 0 | C39: 0 | D39: 0 | E39: 0 | F39: 0 | G39: 0 | H39: 0 | I39: 0 | J39: 0 | K39: 0 | L39: 0 | M39: 0 | N39: 0
A40: 出口快遞貨物簡易報單報關份數(人工建檔) | B40: =SUM(C40:N40) -> 0 | C40: 0 | D40: 0 | E40: 0 | F40: 0 | G40: 0 | H40: 0 | I40: 0 | J40: 0 | K40: 0 | L40: 0 | M40: 0 | N40: 0
A41: (五) 出口離岸價格合計(千元) | B41: =SUM(C41:N41) -> 1.6766371e+09 | C41: 1.4273802e+08 | D41: 1.0289442e+08 | E41: 1.4390175e+08 | F41: 1.3478821e+08 | G41: 1.5100964e+08 | H41: 1.3836635e+08 | I41: 1.5159325e+08 | J41: 1.548289e+08 | K41: 1.3638165e+08 | L41: 1.3245153e+08 | M41: 1.4051595e+08 | N41: 1.4716738e+08
A42: 5-1 出口貨物離岸價格(包含小三通) | B42: =SUM(C42:N42) -> 1.6766327e+09 | C42: 1.4273792e+08 | D42: 1.0289442e+08 | E42: 1.4390097e+08 | F42: 1.3478811e+08 | G42: 1.510089e+08 | H42: 1.3836612e+08 | I42: 1.5159295e+08 | J42: 1.5482804e+08 | K42: 1.3638165e+08 | L42: 1.3245153e+08 | M42: 1.4051493e+08 | N42: 1.4716714e+08
A43: 註:小三通出口離岸價格 | B43: =SUM(C43:N43) -> 904500.26 | C43: 30647.438 | D43: 7145.032 | E43: 126415.17 | F43: 98892.012 | G43: 120830.16 | H43: 131442.6 | I43: 16513.142 | J43: 14272.009 | K43: 67822.245 | L43: 62173.337 | M43: 114122.51 | N43: 114224.59
A44: 5-2 出口快遞貨物離岸價格 | B44: =SUM(C44:N44) -> 4369.668 | C44: 98.421 | D44: 6 | E44: 778.358 | F44: 102.044 | G44: 744.524 | H44: 231.573 | I44: 297.977 | J44: 858.842 | K44: 0 | L44: 0 | M44: 1014.54 | N44: 237.389
A45: 5-3 出口快遞簡易離岸價格 | B45: =SUM(C45:N45) -> 0 | C45: 0 | D45: 0 | E45: 0 | F45: 0 | G45: 0 | H45: 0 | I45: 0 | J45: 0 | K45: 0 | L45: 0 | M45: 0 | N45: 0
A46: (六) 簽發出口報單副本份數合計 | B46: =SUM(C46:N46) -> 25529 | C46: 2134 | D46: 1738 | E46: 2181 | F46: 2113 | G46: 2215 | H46: 2077 | I46: 2078 | J46: 2359 | K46: 2027 | L46: 2088 | M46: 2230 | N46: 2289
A47: 6-1 空運出口報單副本份數 | B47: =SUM(C47:N47) -> 9 | C47: 1 | D47: 0 | E47: 1 | F47: 0 | G47: 1 | H47: 1 | I47: 1 | J47: 1 | K47: 1 | L47: 1 | M47: 1 | N47: 0
A48: 6-2 線上核發空運出口報單副本份數(出口證明用聯) | B48: =SUM(C48:N48) -> 0 | C48: 0 | D48: 0 | E48: 0 | F48: 0 | G48: 0 | H48: 0 | I48: 0 | J48: 0 | K48: 0 | L48: 0 | M48: 0 | N48: 0
A49: 6-3 海運出口報單副本份數 | B49: =SUM(C49:N49) -> 25494 | C49: 2131 | D49: 1734 | E49: 2180 | F49: 2104 | G49: 2213 | H49: 2075 | I49: 2077 | J49: 2356 | K49: 2024 | L49: 2085 | M49: 2227 | N49: 2288
... A65: 9-2 出口 | B65: =SUM(C65:N65) -> 514466 | C65: 44440 | D65: 32687 | E65: 44187 | F65: 41019 | G65: 45114 | H65: 45099 | I65: 43706 | J65: 47788 | K65: 40277 | L65: 39627 | M65: 45807 | N65: 44715
A66: (十)進出口櫃
A67: 10-1 進口貨櫃數量(PCS)合計 | B67: =SUM(C67:N67) -> 865060 | C67: 73966 | D67: 53526 | E67: 73689 | F67: 70011 | G67: 74542 | H67: 74564 | I67: 73002 | J67: 78391 | K67: 69663 | L67: 66784 | M67: 76784 | N67: 80138
A68: 實櫃數量(PCS) | B68: =SUM(C68:N68) -> 658900 | C68: 56678 | D68: 36926 | E68: 55713 | F68: 54679 | G68: 55973 | H68: 58177 | I68: 55534 | J68: 57756 | K68: 54050 | L68: 50685 | M68: 59853 | N68: 62876
A69: 空櫃數量(PCS) | B69: =SUM(C69:N69) -> 52982 | C69: 4464 | D69: 5481 | E69: 6018 | F69: 5416 | G69: 3707 | H69: 3583 | I69: 4600 | J69: 3325 | K69: 2986 | L69: 4107 | M69: 4964 | N69: 4331
A70: 轉運數量(PCS) | B70: =SUM(C70:N70) -> 26855 | C70: 2128 | D70: 1193 | E70: 2173 | F70: 1793 | G70: 2488 | H70: 2176 | I70: 2376 | J70: 2841 | K70: 2102 | L70: 3186 | M70: 2141 | N70: 2258
A71: T1轉運貨櫃實櫃數量(PCS) | B71: =SUM(C71:N71) -> 1743 | C71: 175 | D71: 106 | E71: 135 | F71: 163 | G71: 156 | H71: 149 | I71: 152 | J71: 159 | K71: 150 | L71: 144 | M71: 116 | N71: 138
A72: 免報T1轉口貨櫃實櫃數量(PCS) | B72: =SUM(C72:N72) -> 25112 | C72: 1953 | D72: 1087 | E72: 2038 | F72: 1630 | G72: 2332 | H72: 2027 | I72: 2224 | J72: 2682 | K72: 1952 | L72: 3042 | M72: 2025 | N72: 2120
A73: 轉口數量(PCS) | B73: =SUM(C73:N73) -> 126323 | C73: 10696 | D73: 9926 | E73: 9785 | F73: 8123 | G73: 12374 | H73: 10628 | I73: 10492 | J73: 14469 | K73: 10525 | L73: 8806 | M73: 9826 | N73: 10673
A74: T2轉口貨櫃實櫃數量(PCS) | B74: =SUM(C74:N74) -> 7528 | C74: 1319 | D74: 406 | E74: 159 | F74: 276 | G74: 800 | H74: 154 | I74: 381 | J74: 1383 | K74: 776 | L74: 1038 | M74: 359 | N74: 477
A75: T3轉口貨櫃實櫃數量(PCS) | B75: =SUM(C75:N75) -> 0 | C75: 0 | D75: 0 | E75: 0 | F75: 0 | G75: 0 | H75: 0 | I75: 0 | J75: 0 | K75: 0 | L75: 0 | M75: 0 | N75: 0
A76: T4轉口貨櫃實櫃數量(PCS) | B76: =SUM(C76:N76) -> 122 | C76: 5 | D76: 4 | E76: 6 | F76: 11 | G76: 3 | H76: 9 | I76: 9 | J76: 15 | K76: 25 | L76: 29 | M76: 1 | N76: 5
A77: T6轉口貨櫃實櫃數量(PCS) | B77: =SUM(C77:N77) -> 9822 | C77: 448 | D77: 274 | E77: 543 | F77: 799 | G77: 892 | H77: 816 | I77: 884 | J77: 991 | K77: 1057 | L77: 839 | M77: 1105 | N77: 1174
A78: 免報T2轉口貨櫃實櫃數量(PCS) | B78: =SUM(C78:N78) -> 108851 | C78: 8924 | D78: 9242 | E78: 9077 | F78: 7037 | G78: 10679 | H78: 9649 | I78: 9218 | J78: 12080 | K78: 8667 | L78: 6900 | M78: 8361 | N78: 9017
... A102: MCC出口裝船貨櫃容量(TEU) | B102: =SUM(C102:N102) -> 0 | C102: 0 | D102: 0 | E102: 0 | F102: 0 | G102: 0 | H102: 0 | I102: 0 | J102: 0 | K102: 0 | L102: 0 | M102: 0 | N102: 0
A103: (十一)運輸工具
A104: 11-1 進口商船(艘數) | B104: =SUM(C104:N104) -> 5370 | C104: 465 | D104: 365 | E104: 460 | F104: 457 | G104: 517 | H104: 433 | I104: 444 | J104: 452 | K104: 418 | L104: 422 | M104: 427 | N104: 510
A105: 11-2 進口商船(載貨噸數) | B105: =SUM(C105:N105) -> 51686550 | C105: 4029117.9 | D105: 3497299.2 | E105: 4480281.3 | F105: 4135375.3 | G105: 5378356.1 | H105: 3753175.8 | I105: 4473477 | J105: 4838009.7 | K105: 4145301.3 | L105: 4819490.2 | M105: 4011792 | N105: 4124874.6
A106: 11-3 出口商船(艘數) | B106: =SUM(C106:N106) -> 3951 | C106: 338 | D106: 283 | E106: 330 | F106: 318 | G106: 348 | H106: 341 | I106: 338 | J106: 340 | K106: 331 | L106: 310 | M106: 328 | N106: 346
A107: 11-4 出口商船(載貨噸數) | B107: =SUM(C107:N107) -> 7242200.3 | C107: 591007.08 | D107: 503898.21 | E107: 632982.64 | F107: 598764.78 | G107: 636121.91 | H107: 649460.88 | I107: 554186.67 | J107: 682498.64 | K107: 556320.8 | L107: 499439.47 | M107: 658018.56 | N107: 679500.65
A108: *11-5 入境飛機架次 | B108: =SUM(C108:N108) -> 32 | C108: 0 | D108: 2 | E108: 0 | F108: 5 | G108: 2 | H108: 0 | I108: 2 | J108: 1 | K108: 4 | L108: 3 | M108: 0 | N108: 13
A109: *11-6 進口飛機載貨噸數 | B109: =SUM(C109:N109) -> 0 | C109: 0 | D109: 0 | E109: 0 | F109: 0 | G109: 0 | H109: 0 | I109: 0 | J109: 0 | K109: 0 | L109: 0 | M109: 0 | N109: 0
A110: *11-7 出境飛機架次 | B110: =SUM(C110:N110) -> 32 | C110: 0 | D110: 2 | E110: 0 | F110: 5 | G110: 2 | H110: 1 | I110: 2 | J110: 1 | K110: 3 | L110: 3 | M110: 0 | N110: 13
A111: *11-8 出口飛機載貨噸數 | B111: =SUM(C111:N111) -> 0 | C111: 0 | D111: 0 | E111: 0 | F111: 0 | G111: 0 | H111: 0 | I111: 0 | J111: 0 | K111: 0 | L111: 0 | M111: 0 | N111: 0
A112: (十二)入出境旅客
A113: 12-1 入境 | B113: =SUM(C113:N113) -> 436967 | C113: 18837 | D113: 38585 | E113: 39015 | F113: 37331 | G113: 11874 | H113: 51833 | I113: 46944 | J113: 61480 | K113: 52277 | L113: 30286 | M113: 13976 | N113: 34529
A114: *一般 | B114: =SUM(C114:N114) -> 405873 | C114: 16818 | D114: 35620 | E114: 37280 | F114: 34426 | G114: 9968 | H114: 49564 | I114: 44457 | J114: 57980 | K114: 49359 | L114: 27614 | M114: 10952 | N114: 31835
A115: *小三通 | B115: =SUM(C115:N115) -> 31094 | C115: 2019 | D115: 2965 | E115: 1735 | F115: 2905 | G115: 1906 | H115: 2269 | I115: 2487 | J115: 3500 | K115: 2918 | L115: 2672 | M115: 3024 | N115: 2694
A116: 12-2 出境 | B116: =SUM(C116:N116) -> 434492 | C116: 18624 | D116: 38228 | E116: 38601 | F116: 34430 | G116: 12171 | H116: 50002 | I116: 52600 | J116: 61774 | K116: 47886 | L116: 29254 | M116: 14293 | N116: 36629
A117: *一般 | B117: =SUM(C117:N117) -> 401815 | C117: 16448 | D117: 35323 | E117: 36835 | F117: 31514 | G117: 9914 | H117: 47300 | I117: 49673 | J117: 58348 | K117: 45064 | L117: 26274 | M117: 11232 | N117: 33890
A118: *小三通 | B118: =SUM(C118:N118) -> 32677 | C118: 2176 | D118: 2905 | E118: 1766 | F118: 2916 | G118: 2257 | H118: 2702 | I118: 2927 | J118: 3426 | K118: 2822 | L118: 2980 | M118: 3061 | N118: 2739
A119: (十三) 進出口郵包及進口函件
A120: 13-1 進口郵包及函件件數 | B120: =SUM(C120:N120) -> 50008 | C120: 4564 | D120: 3726 | E120: 4380 | F120: 4299 | G120: 4432 | H120: 3756 | I120: 4395 | J120: 3976 | K120: 3794 | L120: 3995 | M120: 4058 | N120: 4633
A121: *進口郵包件數 | B121: =SUM(C121:N121) -> 49551 | C121: 4550 | D121: 3697 | E121: 4345 | F121: 4258 | G121: 4389 | H121: 3710 | I121: 4349 | J121: 3937 | K121: 3755 | L121: 3948 | M121: 4019 | N121: 4594
A122: *進口函件件數 | B122: =SUM(C122:N122) -> 457 | C122: 14 | D122: 29 | E122: 35 | F122: 41 | G122: 43 | H122: 46 | I122: 46 | J122: 39 | K122: 39 | L122: 47 | M122: 39 | N122: 39
A123: *13-2 出口郵包件數 | B123: =SUM(C123:N123) -> 75502 | C123: 7109 | D123: 5683 | E123: 8170 | F123: 6400 | G123: 6287 | H123: 6053 | I123: 6298 | J123: 6168 | K123: 5944 | L123: 5645 | M123: 5511 | N123: 6234
A124: (十四) 防止中轉業務
A125: *14-1 返台旅客人數 | B125: =SUM(C125:N125) -> 35399 | C125: 2909 | D125: 2083 | E125: 1897 | F125: 4898 | G125: 5728 | H125: 7722 | I125: 2463 | J125: 3356 | K125: 1859 | L125: 1257 | M125: 853 | N125: 374
A126: *14-2 運台郵包份數 | B126: =SUM(C126:N126) -> 0 | C126: 0 | D126: 0 | E126: 0 | F126: 0 | G126: 0 | H126: 0 | I126: 0 | J126: 0 | K126: 0 | L126: 0 | M126: 0 | N126: 0
A127: (十五)單證合一報單份數
A128: *15-1 單證合一報單份數 | B128: =SUM(C128:N128) -> 676 | C128: 51 | D128: 45 | E128: 64 | F128: 49 | G128: 61 | H128: 56 | I128: 53 | J128: 53 | K128: 75 | L128: 61 | M128: 55 | N128: 53
A129: 通關服務類(家數) | C129: 641 | D129: 641 | E129: 641 | F129: 641 | G129: 644 | H129: 645 | I129: 645 | J129: 646 | K129: 648 | L129: 648 | M129: 648 | N129: 648
A130: 21-1 貨櫃集散站 | C130: 19 | D130: 19 | E130: 19 | F130: 19 | G130: 19 | H130: 19 | I130: 19 | J130: 19 | K130: 19 | L130: 19 | M130: 19 | N130: 19
A131: *自主管理貨櫃集散站 | C131: 16 | D131: 16 | E131: 16 | F131: 16 | G131: 16 | H131: 16 | I131: 16 | J131: 16 | K131: 16 | L131: 16 | M131: 16 | N131: 16
A132: *非自主管理貨櫃集散站 | C132: 3 | D132: 3 | E132: 3 | F132: 3 | G132: 3 | H132: 3 | I132: 3 | J132: 3 | K132: 3 | L132: 3 | M132: 3 | N132: 3
A133: 21-2 進出口貨棧 | C133: 16 | D133: 16 | E133: 16 | F133: 16 | G133: 16 | H133: 16 | I133: 16 | J133: 16 | K133: 16 | L133: 16 | M133: 16 | N133: 15
A134: *自主管理貨棧 | C134: 0 | D134: 0 | E134: 0 | F134: 0 | G134: 0 | H134: 0 | I134: 0 | J134: 0 | K134: 0 | L134: 0 | M134: 0 | N134: 0
A135: *非自主管理貨棧 | C135: 16 | D135: 16 | E135: 16 | F135: 16 | G135: 16 | H135: 16 | I135: 16 | J135: 16 | K135: 16 | L135: 16 | M135: 16 | N135: 15
A136: 21-3 報關業 | C136: 537 | D136: 537 | E136: 537 | F136: 537 | G136: 540 | H136: 541 | I136: 541 | J136: 542 | K136: 544 | L136: 544 | M136: 544 | N136: 545
A137: 跨關區報關業 | C137: 23 | D137: 23 | E137: 23 | F137: 23 | G137: 23 | H137: 23 | I137: 23 | J137: 23 | K137: 23 | L137: 23 | M137: 23 | N137: 23
A138: 非跨關區報關業 | C138: 514 | D138: 514 | E138: 514 | F138: 514 | G138: 517 | H138: 518 | I138: 518 | J138: 519 | K138: 521 | L138: 521 | M138: 521 | N138: 522
A139: 21-4 自行報關 | C139: 69 | D139: 69 | E139: 69 | F139: 69 | G139: 69 | H139: 69 | I139: 69 | J139: 69 | K139: 69 | L139: 69 | M139: 69 | N139: 69
A140: 查緝類
A141: 緝私案件
A142: 31-1 私貨件數 (件) | B142: =SUM(C142:N142) -> 2176 | C142: 66 | D142: 96 | E142: 229 | F142: 364 | G142: 240 | H142: 91 | I142: 89 | J142: 189 | K142: 467 | L142: 88 | M142: 127 | N142: 130
A143: 31-2 私貨價值（新臺幣千元） | B143: =SUM(C143:N143) -> 291823.02 | C143: 534.151 | D143: 1193.013 | E143: 2952.324 | F143: 260314.83 | G143: 7728.415 | H143: 1695.208 | I143: 2168.489 | J143: 2900.444 | K143: 8837.819 | L143: 1175.244 | M143: 1498.622 | N143: 824.46
A144: 沖退稅類
A145: 41-1 結辦案件數 | B145: =SUM(C145:N145) -> 0 | C145: 0 | D145: 0 | E145: 0 | F145: 0 | G145: 0 | H145: 0 | I145: 0 | J145: 0 | K145: 0 | L145: 0 | M145: 0 | N145: 0
A146: 42-2 沖稅金額(千元) | B146: =SUM(C146:N146) -> 0 | C146: 0 | D146: 0 | E146: 0 | F146: 0 | G146: 0 | H146: 0 | I146: 0 | J146: 0 | K146: 0 | L146: 0 | M146: 0 | N146: 0
A147: 43-3 退稅金額(千元) | B147: =SUM(C147:N147) -> 0 | C147: 0 | D147: 0 | E147: 0 | F147: 0 | G147: 0 | H147: 0 | I147: 0 | J147: 0 | K147: 0 | L147: 0 | M147: 0 | N147: 0
A148: 保稅類
A149: (一) 科學園區
A150: *51-1 家數 | B150: =SUM(C150:N150) -> 0 | C150: 0 | D150: 0 | E150: 0 | F150: 0 | G150: 0 | H150: 0 | I150: 0 | J150: 0 | K150: 0 | L150: 0 | M150: 0 | N150: 0
A151: 51-2 進區報單份數 | B151: =SUM(C151:N151) -> 0 | C151: 0 | D151: 0 | E151: 0 | F151: 0 | G151: 0 | H151: 0 | I151: 0 | J151: 0 | K151: 0 | L151: 0 | M151: 0 | N151: 0
A152: 51-3 出區報單份數 | B152: =SUM(C152:N152) -> 0 | C152: 0 | D152: 0 | E152: 0 | F152: 0 | G152: 0 | H152: 0 | I152: 0 | J152: 0 | K152: 0 | L152: 0 | M152: 0 | N152: 0
A153: 51-4 進區貨物價值(千元) | B153: =SUM(C153:N153) -> 0 | C153: 0 | D153: 0 | E153: 0 | F153: 0 | G153: 0 | H153: 0 | I153: 0 | J153: 0 | K153: 0 | L153: 0 | M153: 0 | N153: 0
A154: 51-5 出區貨物價值(千元) | B154: =SUM(C154:N154) -> 0 | C154: 0 | D154: 0 | E154: 0 | F154: 0 | G154: 0 | H154: 0 | I154: 0 | J154: 0 | K154: 0 | L154: 0 | M154: 0 | N154: 0
...
