Workbook

Sheet 每季
B1: 基隆關112年度各項主要業務資料統計
B2: 一、一般貨物進出口報單份數（單位：份）
C3: 第1季 | D3: 第2季 | E3: 第3季 | F3: 第4季 | G3: 合計
B4: 進口報單 | C4: =SUM(每月!C6:E6) -> 169801 | D4: =SUM(每月!F6:H6) -> 186955 | E4: =SUM(每月!I6:K6) -> 187995 | F4: =SUM(每月!L6:N6) -> 0 | G4: =SUM(C4:F4) -> 544751
B5: 出口報單 | C5: =SUM(每月!C29:E29) -> 177868 | D5: =SUM(每月!F29:H29) -> 186701 | E5: =SUM(每月!I29:K29) -> 191487 | F5: =SUM(每月!L29:N29) -> 0 | G5: =SUM(C5:F5) -> 556056
B6: 轉運申請書 | C6: =SUM(每月!C51:E51) -> 3498 | D6: =SUM(每月!F51:H51) -> 4672 | E6: =SUM(每月!I51:K51) -> 3649 | F6: =SUM(每月!L51:N51) -> 0 | G6: =SUM(C6:F6) -> 11819
B7: 合 計 | C7: =SUM(C4:C6) -> 351167 | D7: =SUM(D4:D6) -> 378328 | E7: =SUM(E4:E6) -> 383131 | F7: =SUM(F4:F6) -> 0 | G7: =SUM(C7:F7) -> 1112626
B8: *進、出口報單份數包含小三通部分
B9: 二、快遞貨物進出口報單份數（單位：份）
C10: 第1季 | D10: 第2季 | E10: 第3季 | F10: 第4季 | G10: 合計
B11: 進口報單 | C11: =SUM(每月!C12:E12)+SUM(每月!C15:E15) -> 2083319 | D11: =SUM(每月!F12:H12)+SUM(每月!F15:H15) -> 2194484 | E11: =SUM(每月!I12:K12)+SUM(每月!I15:K15) -> 2256577 | F11: =SUM(每月!L12:N12)+SUM(每月!L15:N15) -> 0 | G11: =SUM(C11:F11) -> 6534380
B12: 出口報單 | C12: =SUM(每月!C35:E35)+SUM(每月!C38:E38) -> 29 | D12: =SUM(每月!F35:H35)+SUM(每月!F38:H38) -> 51 | E12: =SUM(每月!I35:K35)+SUM(每月!I38:K38) -> 200 | F12: =SUM(每月!L35:N35)+SUM(每月!L38:N38) -> 0 | G12: =SUM(C12:F12) -> 280
B13: 合 計 | C13: =SUM(C11:C12) -> 2083348 | D13: =SUM(D11:D12) -> 2194535 | E13: =SUM(E11:E12) -> 2256777 | F13: =SUM(F11:F12) -> 0 | G13: =SUM(G11:G12) -> 6534660
B15: 三、入出境旅客人數（單位：人）
C16: 第1季 | D16: 第2季 | E16: 第3季 | F16: 第4季 | G16: 合計
B17: 入境旅客 | C17: =SUM(每月!C114:E114) -> 6951 | D17: =SUM(每月!F114:H114) -> 32720 | E17: =SUM(每月!I114:K114) -> 83993 | F17: =SUM(每月!L114:N114) -> 0 | G17: =SUM(C17:F17) -> 123664
B18: 出境旅客 | C18: =SUM(每月!C117:E117) -> 7123 | D18: =SUM(每月!F117:H117) -> 32674 | E18: =SUM(每月!I117:K117) -> 85610 | F18: =SUM(每月!L117:N117) -> 0 | G18: =SUM(C18:F18) -> 125407
B19: 合 計 | C19: =SUM(C17:C18) -> 14074 | D19: =SUM(D17:D18) -> 65394 | E19: =SUM(E17:E18) -> 169603 | F19: =SUM(F17:F18) -> 0 | G19: =SUM(C19:F19) -> 249071
B20: *入出境旅客人數未包含小三通部分
B21: 四、商船艘數（單位：艘）
C22: 第1季 | D22: 第2季 | E22: 第3季 | F22: 第4季 | G22: 合計
B23: 進口商船 | C23: =SUM(每月!C104:E104) -> 1273 | D23: =SUM(每月!F104:H104) -> 1427 | E23: =SUM(每月!I104:K104) -> 1441 | F23: =SUM(每月!L104:N104) -> 0 | G23: =SUM(C23:F23) -> 4141
B24: 出口商船 | C24: =SUM(每月!C106:E106) -> 938 | D24: =SUM(每月!F106:H106) -> 1085 | E24: =SUM(每月!I106:K106) -> 1071 | F24: =SUM(每月!L106:N106) -> 0 | G24: =SUM(C24:F24) -> 3094
B25: 合 計 | C25: =SUM(C23:C24) -> 2211 | D25: =SUM(D23:D24) -> 2512 | E25: =SUM(E23:E24) -> 2512 | F25: =SUM(F23:F24) -> 0 | G25: =SUM(C25:F25) -> 7235
B27: 五、商船載貨噸數（單位：噸）
C28: 第1季 | D28: 第2季 | E28: 第3季 | F28: 第4季 | G28: 合計
B29: 進口商船 | C29: =SUM(每月!C105:E105) -> 11403472 | D29: =(SUM(每月!F105:H105)) -> 13122439 | E29: =(SUM(每月!I105:K105)) -> 12621080 | F29: =(SUM(每月!L105:N105)) -> 0 | G29: =SUM(C29:F29) -> 37146991
B30: 出口商船 | C30: =(SUM(每月!C107:E107)) -> 1918208.5 | D30: =(SUM(每月!F107:H107)) -> 1882701.8 | E30: =(SUM(每月!I107:K107)) -> 1885605.9 | F30: =(SUM(每月!L107:N107)) -> 0 | G30: =SUM(C30:F30) -> 5686516.3
B31: 合 計 | C31: =SUM(C29:C30) -> 13321681 | D31: =SUM(D29:D30) -> 15005141 | E31: =SUM(E29:E30) -> 14506686 | F31: =SUM(F29:F30) -> 0 | G31: =SUM(C31:F31) -> 42833507
B33: 六、郵包件數（單位：件）
C34: 第1季 | D34: 第2季 | E34: 第3季 | F34: 第4季 | G34: 合計
B35: 進口郵包 | C35: =SUM(每月!C121:E121) -> 13854 | D35: =SUM(每月!F121:H121) -> 12529 | E35: =SUM(每月!I121:K121) -> 12168 | F35: =SUM(每月!L121:N121) -> 0 | G35: =SUM(C35:F35) -> 38551
B36: 出口郵包 | C36: =SUM(每月!C123:E123) -> 26182 | D36: =SUM(每月!F123:H123) -> 24249 | E36: =SUM(每月!I123:K123) -> 23394 | F36: =SUM(每月!L123:N123) -> 0 | G36: =SUM(C36:F36) -> 73825
B37: 合 計 | C37: =SUM(C35:C36) -> 40036 | D37: =SUM(D35:D36) -> 36778 | E37: =SUM(E35:E36) -> 35562 | F37: =SUM(F35:F36) -> 0 | G37: =SUM(C37:F37) -> 112376
B39: 七、貨櫃實櫃數量（單位：個）
C40: 第1季 | D40: 第2季 | E40: 第3季 | F40: 第4季 | G40: 合計
B41: 進口實櫃 | C41: =SUM(每月!C68:E68) -> 135609 | D41: =SUM(每月!F68:H68) -> 152726 | E41: =SUM(每月!I68:K68) -> 155444 | F41: =SUM(每月!L68:N68) -> 0 | G41: =SUM(C41:F41) -> 443779
B42: 出口實櫃 | C42: =SUM(每月!C91:E91) -> 99734 | D42: =SUM(每月!F91:H91) -> 103969 | E42: =SUM(每月!I91:K91) -> 103061 | F42: =SUM(每月!L91:N91) -> 0 | G42: =SUM(C42:F42) -> 306764
B43: 轉口實櫃 | C43: =SUM(每月!C73:E73)+SUM(每月!C92:E92) -> 83099 | D43: =SUM(每月!F73:H73)+SUM(每月!F92:H92) -> 82403 | E43: =SUM(每月!I73:K73)+SUM(每月!I92:K92) -> 68865 | F43: =SUM(每月!L73:N73)+SUM(每月!L92:N92) -> 0 | G43: =SUM(C43:F43) -> 234367
B44: 合 計 | C44: =SUM(C41:C43) -> 318442 | D44: =SUM(D41:D43) -> 339098 | E44: =SUM(E41:E43) -> 327370 | F44: =SUM(F41:F43) -> 0 | G44: =SUM(C44:F44) -> 984910
B46: 八、緝私案件件數及金額（單位：件/新臺幣千元）
C47: 第1季 | D47: 第2季 | E47: 第3季 | F47: 第4季 | G47: 合計
B48: 緝案件數 | C48: =SUM(每月!C142:E142) -> 319 | D48: =SUM(每月!F142:H142) -> 292 | E48: =SUM(每月!I142:K142) -> 317 | F48: =SUM(每月!L142:N142) -> 0 | G48: =SUM(C48:F48) -> 928
B49: 緝案沒入與罰鍰金額 | C49: =SUM(每月!C143:E143) -> 150025.75 | D49: =SUM(每月!F143:H143) -> 535976.3 | E49: =SUM(每月!I143:K143) -> 25089.026 | F49: =SUM(每月!L143:N143) -> 0 | G49: =SUM(C49:F49) -> 711091.08
B51: 九、本關監管業務統計（以每季第三月資料為準）（單位：家）
C52: 第1季 | D52: 第2季 | E52: 第3季 | F52: 第4季 | G52: 備註
B53: 貨櫃集散站 | C53: =每月!E130 -> 20 | D53: =每月!H130 -> 19 | E53: =每月!K130 -> 19 | F53: =每月!N130 -> 0
B54: 進出口貨棧 | C54: =每月!E133 -> 16 | D54: =每月!H133 -> 15 | E54: =每月!K133 -> 15 | F54: =每月!N133 -> 0
B55: 報 關 業 | C55: =每月!E136 -> 521 | D55: =每月!H136 -> 525 | E55: =每月!K136 -> 526 | F55: =每月!N136 -> 0
B56: 保 稅 倉 庫 | C56: =每月!E171 -> 30 | D56: =每月!H171 -> 30 | E56: =每月!K171 -> 28 | F56: =每月!N171 -> 0
B57: 自用保稅倉庫 | C57: =每月!E177 -> 3 | D57: =每月!H177 -> 3 | E57: =每月!K177 -> 2 | F57: =每月!N177 -> 0
B58: 免稅商店 | C58: =每月!E201 -> 3 | D58: =每月!H201 -> 3 | E58: =每月!K201 -> 3 | F58: =每月!N201 -> 0
B59: 離島免稅購物商店 | C59: =每月!E202 -> 2 | D59: =每月!H202 -> 2 | E59: =每月!K202 -> 2 | F59: =每月!N202 -> 0
B60: 自由港區事業 | C60: =每月!E195 -> 17 | D60: =每月!H195 -> 17 | E60: =每月!K195 -> 17 | F60: =每月!N195 -> 0
B61: 物流中心 | C61: =每月!E183 -> 3 | D61: =每月!H183 -> 3 | E61: =每月!K183 -> 3 | F61: =每月!N183 -> 0

Sheet 每月
A1: 基隆關業務工作量統計表
A2: 112 年 1 月 至 112 年 9 月
A3: 項 目 | B3: 合 計 | C3: 1月 | D3: 2月 | E3: 3月 | F3: 4月 | G3: 5月 | H3: 6月 | I3: 7月 | J3: 8月 | K3: 9月 | L3: 10月 | M3: 11月 | N3: 12月
A4: 徵課類
A5: (一) 進口報單報關份數合計 | B5: =SUM(C5:N5) -> 7079131 | C5: 582903 | D5: 734029 | E5: 936188 | F5: 735318 | G5: 825129 | H5: 820992 | I5: 815118 | J5: 843019 | K5: 786435
A6: 1-1 進口報單報關份數(包含小三通) | B6: =SUM(C6:N6) -> 544751 | C6: 48908 | D6: 47027 | E6: 73866 | F6: 58308 | G6: 65922 | H6: 62725 | I6: 62896 | J6: 65064 | K6: 60035
A7: 進口報單報關份數(電腦連線) | B7: =SUM(C7:N7) -> 544638 | C7: 48904 | D7: 47026 | E7: 73858 | F7: 58289 | G7: 65905 | H7: 62707 | I7: 62878 | J7: 65050 | K7: 60021
A8: 進口報單報關份數(人工建檔) | B8: =SUM(C8:N8) -> 113 | C8: 4 | D8: 1 | E8: 8 | F8: 19 | G8: 17 | H8: 18 | I8: 18 | J8: 14 | K8: 14
A9: 註:小三通進口報單報關份數 | B9: =SUM(C9:N9) -> 131 | C9: 4 | D9: 1 | E9: 7 | F9: 23 | G9: 22 | H9: 19 | I9: 18 | J9: 18 | K9: 19
A10: 小三通進口報單報關份數(電腦連線) | B10: =SUM(C10:N10) -> 43 | C10: 2 | D10: 1 | E10: 6 | F10: 7 | G10: 7 | H10: 3 | I10: 5 | J10: 5 | K10: 7
A11: 小三通進口報單報關份數(人工建檔) | B11: =SUM(C11:N11) -> 88 | C11: 2 | D11: 0 | E11: 1 | F11: 16 | G11: 15 | H11: 16 | I11: 13 | J11: 13 | K11: 12
A12: 1-2 進口快遞貨物報單報關份數 | B12: =SUM(C12:N12) -> 37836 | C12: 2318 | D12: 2443 | E12: 4084 | F12: 4548 | G12: 5651 | H12: 4729 | I12: 4697 | J12: 4898 | K12: 4468
A13: 進口快遞貨物報單報關份數(電腦連線) | B13: =SUM(C13:N13) -> 37836 | C13: 2318 | D13: 2443 | E13: 4084 | F13: 4548 | G13: 5651 | H13: 4729 | I13: 4697 | J13: 4898 | K13: 4468
A14: 進口快遞貨物報單報關份數(人工建檔) | B14: =SUM(C14:N14) -> 0 | C14: 0 | D14: 0 | E14: 0 | F14: 0 | G14: 0 | H14: 0 | I14: 0 | J14: 0 | K14: 0
A15: 1-3 進口快遞貨物簡易報單報關份數 | B15: =SUM(C15:N15) -> 6496544 | C15: 531677 | D15: 684559 | E15: 858238 | F15: 672462 | G15: 753556 | H15: 753538 | I15: 747525 | J15: 773057 | K15: 721932
A16: 進口快遞貨物簡易報單報關份數(電腦連線) | B16: =SUM(C16:N16) -> 6496544 | C16: 531677 | D16: 684559 | E16: 858238 | F16: 672462 | G16: 753556 | H16: 753538 | I16: 747525 | J16: 773057 | K16: 721932
... A33: 小三通出口報單報關份數(電腦連線) | B33: =SUM(C33:N33) -> 8 | C33: 0 | D33: 0 | E33: 2 | F33: 3 | G33: 0 | H33: 1 | I33: 1 | J33: 0 | K33: 1
A34: 小三通出口報單報關份數(人工建檔)
A35: 4-2 出口快遞貨物報單報關份數 | B35: =SUM(C35:N35) -> 280 | C35: 1 | D35: 0 | E35: 28 | F35: 1 | G35: 36 | H35: 14 | I35: 37 | J35: 141 | K35: 22
A36: 出口快遞貨物報單報關份數(電腦連線) | B36: =SUM(C36:N36) -> 280 | C36: 1 | D36: 0 | E36: 28 | F36: 1 | G36: 36 | H36: 14 | I36: 37 | J36: 141 | K36: 22
A37: 出口快遞貨物報單報關份數(人工建檔)
A38: 4-3 出口快遞貨物簡易報單報關份數 | B38: =SUM(C38:N38) -> 0 | C38: 0 | D38: 0 | E38: 0 | F38: 0 | G38: 0 | H38: 0 | I38: 0 | J38: 0 | K38: 0
A39: 出口快遞貨物簡易報單報關份數(電腦連線) | B39: =SUM(C39:N39) -> 0 | C39: 0 | D39: 0 | E39: 0 | F39: 0 | G39: 0 | H39: 0 | I39: 0 | J39: 0 | K39: 0
A40: 出口快遞貨物簡易報單報關份數(人工建檔) | B40: =SUM(C40:N40) -> 0 | C40: 0 | D40: 0 | E40: 0 | F40: 0 | G40: 0 | H40: 0 | I40: 0 | J40: 0 | K40: 0
A41: (五) 出口離岸價格合計(千元) | B41: =SUM(C41:N41) -> 1.2784725e+09 | C41: 1.0495695e+08 | D41: 1.2925576e+08 | E41: 1.6219317e+08 | F41: 1.3676882e+08 | G41: 1.5047159e+08 | H41: 1.5096715e+08 | I41: 1.517414e+08 | J41: 1.5066868e+08 | K41: 1.4144896e+08
A42: 5-1 出口貨物離岸價格(包含小三通) | B42: =SUM(C42:N42) -> 1.278468e+09 | C42: 1.049569e+08 | D42: 1.2925576e+08 | E42: 1.6219293e+08 | F42: 1.3676877e+08 | G42: 1.504698e+08 | H42: 1.5096682e+08 | I42: 1.5174095e+08 | J42: 1.5066727e+08 | K42: 1.4144876e+08
A43: 註:小三通出口離岸價格 | B43: =SUM(C43:N43) -> 70110.265 | C43: 0 | D43: 0 | E43: 30918.056 | F43: 22601.54 | G43: 0 | H43: 6193.56 | I43: 5406.588 | J43: 0 | K43: 4990.521
A44: 5-2 出口快遞貨物離岸價格 | B44: =SUM(C44:N44) -> 4507.927 | C44: 50 | D44: 0 | E44: 233.103 | F44: 47.49 | G44: 1787.334 | H44: 326.735 | I44: 450.215 | J44: 1410.078 | K44: 202.972
A45: 5-3 出口快遞簡易離岸價格 | B45: =SUM(C45:N45) -> 0 | C45: 0 | D45: 0 | E45: 0 | F45: 0 | G45: 0 | H45: 0 | I45: 0 | J45: 0 | K45: 0
A46: (六) 簽發出口報單副本份數合計 | B46: =SUM(C46:N46) -> 21327 | C46: 1912 | D46: 1946 | E46: 2729 | F46: 2252 | G46: 2817 | H46: 2513 | I46: 2286 | J46: 2614 | K46: 2258
A47: 6-1 空運出口報單副本份數 | B47: =SUM(C47:N47) -> 4 | C47: 0 | D47: 0 | E47: 0 | F47: 0 | G47: 0 | H47: 1 | I47: 1 | J47: 1 | K47: 1
A48: 6-2 線上核發空運出口報單副本份數(出口證明用聯) | B48: =SUM(C48:N48) -> 0 | C48: 0 | D48: 0 | E48: 0 | F48: 0 | G48: 0 | H48: 0 | I48: 0 | J48: 0 | K48: 0
A49: 6-3 海運出口報單副本份數 | B49: =SUM(C49:N49) -> 21253 | C49: 1912 | D49: 1946 | E49: 2729 | F49: 2246 | G49: 2766 | H49: 2511 | I49: 2284 | J49: 2612 | K49: 2247
... A65: 9-2 出口 | B65: =SUM(C65:N65) -> 410610 | C65: 41892 | D65: 43650 | E65: 48365 | F65: 46457 | G65: 48436 | H65: 44549 | I65: 48240 | J65: 45659 | K65: 43362
A66: (十)進出口櫃
A67: 10-1 進口貨櫃數量(PCS)合計 | B67: =SUM(C67:N67) -> 659273 | C67: 64500 | D67: 70116 | E67: 81754 | F67: 78705 | G67: 75430 | H67: 73114 | I67: 72506 | J67: 70689 | K67: 72459
A68: 實櫃數量(PCS) | B68: =SUM(C68:N68) -> 443779 | C68: 40055 | D68: 42644 | E68: 52910 | F68: 51813 | G68: 49764 | H68: 51149 | I68: 52198 | J68: 50846 | K68: 52400
A69: 空櫃數量(PCS) | B69: =SUM(C69:N69) -> 70267 | C69: 9723 | D69: 9512 | E69: 9560 | F69: 9379 | G69: 7782 | H69: 6673 | I69: 7061 | J69: 5133 | K69: 5444
A70: 轉運數量(PCS) | B70: =SUM(C70:N70) -> 26115 | C70: 2657 | D70: 3357 | E70: 3568 | F70: 3271 | G70: 3446 | H70: 2388 | I70: 2284 | J70: 2642 | K70: 2502
A71: T1轉運貨櫃實櫃數量(PCS) | B71: =SUM(C71:N71) -> 1521 | C71: 143 | D71: 164 | E71: 186 | F71: 172 | G71: 160 | H71: 172 | I71: 192 | J71: 187 | K71: 145
A72: 免報T1轉口貨櫃實櫃數量(PCS) | B72: =SUM(C72:N72) -> 24594 | C72: 2514 | D72: 3193 | E72: 3382 | F72: 3099 | G72: 3286 | H72: 2216 | I72: 2092 | J72: 2455 | K72: 2357
A73: 轉口數量(PCS) | B73: =SUM(C73:N73) -> 119112 | C73: 12065 | D73: 14603 | E73: 15716 | F73: 14242 | G73: 14438 | H73: 12904 | I73: 10963 | J73: 12068 | K73: 12113
A74: T2轉口貨櫃實櫃數量(PCS) | B74: =SUM(C74:N74) -> 14260 | C74: 1214 | D74: 1929 | E74: 1828 | F74: 2810 | G74: 3597 | H74: 1026 | I74: 730 | J74: 659 | K74: 467
A75: T3轉口貨櫃實櫃數量(PCS) | B75: =SUM(C75:N75) -> 0 | C75: 0 | D75: 0 | E75: 0 | F75: 0 | G75: 0 | H75: 0 | I75: 0 | J75: 0 | K75: 0
A76: T4轉口貨櫃實櫃數量(PCS) | B76: =SUM(C76:N76) -> 71 | C76: 4 | D76: 3 | E76: 4 | F76: 2 | G76: 1 | H76: 2 | I76: 10 | J76: 32 | K76: 13
A77: T6轉口貨櫃實櫃數量(PCS) | B77: =SUM(C77:N77) -> 4052 | C77: 282 | D77: 467 | E77: 449 | F77: 447 | G77: 487 | H77: 471 | I77: 406 | J77: 479 | K77: 564
A78: 免報T2轉口貨櫃實櫃數量(PCS) | B78: =SUM(C78:N78) -> 100729 | C78: 10565 | D78: 12204 | E78: 13435 | F78: 10983 | G78: 10353 | H78: 11405 | I78: 9817 | J78: 10898 | K78: 11069
... A102: MCC出口裝船貨櫃容量(TEU) | B102: =SUM(C102:N102) -> 0 | C102: 0 | D102: 0 | E102: 0 | F102: 0 | G102: 0 | H102: 0 | I102: 0 | J102: 0 | K102: 0
A103: (十一)運輸工具
A104: 11-1 進口商船(艘數) | B104: =SUM(C104:N104) -> 4141 | C104: 368 | D104: 413 | E104: 492 | F104: 451 | G104: 453 | H104: 523 | I104: 466 | J104: 481 | K104: 494
A105: 11-2 進口商船(載貨噸數) | B105: =SUM(C105:N105) -> 37146991 | C105: 3136534.4 | D105: 3897601.1 | E105: 4369336.5 | F105: 3994189.1 | G105: 4004107.8 | H105: 5124142.5 | I105: 3412015.3 | J105: 4269132.7 | K105: 4939931.7
A106: 11-3 出口商船(艘數) | B106: =SUM(C106:N106) -> 3094 | C106: 293 | D106: 299 | E106: 346 | F106: 351 | G106: 346 | H106: 388 | I106: 348 | J106: 364 | K106: 359
A107: 11-4 出口商船(載貨噸數) | B107: =SUM(C107:N107) -> 5686516.3 | C107: 617069.27 | D107: 661417.43 | E107: 639721.82 | F107: 684594.83 | G107: 620809.81 | H107: 577297.19 | I107: 631497.5 | J107: 638335.23 | K107: 615773.22
A108: *11-5 入境飛機架次 | B108: =SUM(C108:N108) -> 23 | C108: 4 | D108: 0 | E108: 0 | F108: 2 | G108: 3 | H108: 2 | I108: 7 | J108: 3 | K108: 2
A109: *11-6 進口飛機載貨噸數 | B109: =SUM(C109:N109) -> 0 | C109: 0 | D109: 0 | E109: 0 | F109: 0 | G109: 0 | H109: 0 | I109: 0 | J109: 0 | K109: 0
A110: *11-7 出境飛機架次 | B110: =SUM(C110:N110) -> 24 | C110: 4 | D110: 0 | E110: 0 | F110: 3 | G110: 2 | H110: 3 | I110: 7 | J110: 3 | K110: 2
A111: *11-8 出口飛機載貨噸數 | B111: =SUM(C111:N111) -> 0 | C111: 0 | D111: 0 | E111: 0 | F111: 0 | G111: 0 | H111: 0 | I111: 0 | J111: 0 | K111: 0
A112: (十二)入出境旅客
A113: 12-1 入境 | B113: =SUM(C113:N113) -> 136179 | C113: 108 | D113: 267 | E113: 7347 | F113: 16075 | G113: 13731 | H113: 7609 | I113: 35615 | J113: 30337 | K113: 25090
A114: *一般 | B114: =SUM(C114:N114) -> 123664 | C114: 28 | D114: 0 | E114: 6923 | F114: 14473 | G114: 12339 | H114: 5908 | I114: 33290 | J114: 27528 | K114: 23175
A115: *小三通 | B115: =SUM(C115:N115) -> 12515 | C115: 80 | D115: 267 | E115: 424 | F115: 1602 | G115: 1392 | H115: 1701 | I115: 2325 | J115: 2809 | K115: 1915
A116: 12-2 出境 | B116: =SUM(C116:N116) -> 138946 | C116: 180 | D116: 306 | E116: 7618 | F116: 15845 | G116: 14155 | H116: 8095 | I116: 37024 | J116: 31551 | K116: 24172
A117: *一般 | B117: =SUM(C117:N117) -> 125407 | C117: 29 | D117: 0 | E117: 7094 | F117: 14128 | G117: 12615 | H117: 5931 | I117: 34278 | J117: 29184 | K117: 22148
A118: *小三通 | B118: =SUM(C118:N118) -> 13539 | C118: 151 | D118: 306 | E118: 524 | F118: 1717 | G118: 1540 | H118: 2164 | I118: 2746 | J118: 2367 | K118: 2024
A119: (十三) 進出口郵包及進口函件
A120: 13-1 進口郵包及函件件數 | B120: =SUM(C120:N120) -> 38997 | C120: 4873 | D120: 4224 | E120: 4886 | F120: 4094 | G120: 4293 | H120: 4364 | I120: 4086 | J120: 4166 | K120: 4011
A121: *進口郵包件數 | B121: =SUM(C121:N121) -> 38551 | C121: 4858 | D121: 4175 | E121: 4821 | F121: 4041 | G121: 4211 | H121: 4277 | I121: 4059 | J121: 4135 | K121: 3974
A122: *進口函件件數 | B122: =SUM(C122:N122) -> 446 | C122: 15 | D122: 49 | E122: 65 | F122: 53 | G122: 82 | H122: 87 | I122: 27 | J122: 31 | K122: 37
A123: *13-2 出口郵包件數 | B123: =SUM(C123:N123) -> 73825 | C123: 6720 | D123: 8863 | E123: 10599 | F123: 7007 | G123: 8974 | H123: 8268 | I123: 7794 | J123: 8479 | K123: 7121
A124: (十四) 防止中轉業務
A125: *14-1 返台旅客人數 | B125: =SUM(C125:N125) -> 53065 | C125: 3966 | D125: 3152 | E125: 4795 | F125: 8561 | G125: 8257 | H125: 9643 | I125: 5754 | J125: 4916 | K125: 4021
A126: *14-2 運台郵包份數 | B126: =SUM(C126:N126) -> 0 | C126: 0 | D126: 0 | E126: 0 | F126: 0 | G126: 0 | H126: 0 | I126: 0 | J126: 0 | K126: 0
A127: (十五)單證合一報單份數
A128: *15-1 單證合一報單份數 | B128: =SUM(C128:N128) -> 553 | C128: 89 | D128: 90 | E128: 147 | F128: 56 | G128: 38 | H128: 36 | I128: 39 | J128: 25 | K128: 33
A129: 通關服務類(家數) | C129: 626 | D129: 626 | E129: 626 | F129: 628 | G129: 629 | H129: 628 | I129: 628 | J129: 628 | K129: 629
A130: 21-1 貨櫃集散站 | C130: 20 | D130: 20 | E130: 20 | F130: 20 | G130: 20 | H130: 19 | I130: 19 | J130: 19 | K130: 19
A131: *自主管理貨櫃集散站 | C131: 16 | D131: 16 | E131: 16 | F131: 16 | G131: 16 | H131: 16 | I131: 16 | J131: 16 | K131: 16
A132: *非自主管理貨櫃集散站 | C132: 4 | D132: 4 | E132: 4 | F132: 4 | G132: 4 | H132: 3 | I132: 3 | J132: 3 | K132: 3
A133: 21-2 進出口貨棧 | C133: 16 | D133: 16 | E133: 16 | F133: 16 | G133: 15 | H133: 15 | I133: 15 | J133: 15 | K133: 15
A134: *自主管理貨棧 | C134: 0 | D134: 0 | E134: 0 | F134: 0 | G134: 0 | H134: 0 | I134: 0 | J134: 0 | K134: 0
A135: *非自主管理貨棧 | C135: 16 | D135: 16 | E135: 16 | F135: 16 | G135: 15 | H135: 15 | I135: 15 | J135: 15 | K135: 15
A136: 21-3 報關業 | C136: 521 | D136: 521 | E136: 521 | F136: 523 | G136: 525 | H136: 525 | I136: 525 | J136: 525 | K136: 526
A137: 跨關區報關業 | C137: 22 | D137: 22 | E137: 22 | F137: 22 | G137: 22 | H137: 22 | I137: 22 | J137: 22 | K137: 22
A138: 非跨關區報關業 | C138: 499 | D138: 499 | E138: 499 | F138: 501 | G138: 503 | H138: 503 | I138: 503 | J138: 503 | K138: 504
A139: 21-4 自行報關 | C139: 69 | D139: 69 | E139: 69 | F139: 69 | G139: 69 | H139: 69 | I139: 69 | J139: 69 | K139: 69
A140: 查緝類
A141: (一) 緝私案件
A142: 31-1緝私案件件數 | B142: =SUM(C142:N142) -> 928 | C142: 54 | D142: 69 | E142: 196 | F142: 94 | G142: 102 | H142: 96 | I142: 124 | J142: 112 | K142: 81
A143: 31-2緝私案件沒入及罰鍰金額(千元) | B143: =SUM(C143:N143) -> 711091.08 | C143: 20129.343 | D143: 45952.131 | E143: 83944.277 | F143: 13477.295 | G143: 461544.94 | H143: 60954.065 | I143: 7027.583 | J143: 6227.69 | K143: 11833.753
A144: (二) 處結緝私案件
A145: 32-1處結緝私件數 | B145: =SUM(C145:N145) -> 2461 | C145: 103 | D145: 441 | E145: 429 | F145: 220 | G145: 205 | H145: 323 | I145: 304 | J145: 272 | K145: 164
A146: 32-2處結緝私價值(千元) | B146: =SUM(C146:N146) -> 103009.69 | C146: 4603.322 | D146: 12095.092 | E146: 22926.187 | F146: 6971.901 | G146: 7738.553 | H146: 10135.098 | I146: 20704.219 | J146: 14853.528 | K146: 2981.788
A147: 沖退稅類
A148: 41-1 結辦案件數 | B148: =SUM(C148:N148) -> 0 | C148: 0 | D148: 0 | E148: 0 | F148: 0 | G148: 0 | H148: 0 | I148: 0 | J148: 0 | K148: 0
A149: 42-2 沖稅金額(千元) | B149: =SUM(C149:N149) -> 0 | C149: 0 | D149: 0 | E149: 0 | F149: 0 | G149: 0 | H149: 0 | I149: 0 | J149: 0 | K149: 0
A150: 43-3 退稅金額(千元) | B150: =SUM(C150:N150) -> 0 | C150: 0 | D150: 0 | E150: 0 | F150: 0 | G150: 0 | H150: 0 | I150: 0 | J150: 0 | K150: 0
A151: 保稅類
A152: (一) 科學園區
A153: *51-1 家數 | B153: =SUM(C153:N153) -> 0 | C153: 0 | D153: 0 | E153: 0 | F153: 0 | G153: 0 | H153: 0 | I153: 0 | J153: 0 | K153: 0
A154: 51-2 進區報單份數 | B154: =SUM(C154:N154) -> 0 | C154: 0 | D154: 0 | E154: 0 | F154: 0 | G154: 0 | H154: 0 | I154: 0 | J154: 0 | K154: 0
...
